BEGIN:VCALENDAR
VERSION:2.0
PRODID:-//Whats On In Adelaide - ECPv6.9.0//NONSGML v1.0//EN
CALSCALE:GREGORIAN
METHOD:PUBLISH
X-ORIGINAL-URL:https://whatsoninadelaide.net.au
X-WR-CALDESC:Events for Whats On In Adelaide
REFRESH-INTERVAL;VALUE=DURATION:PT1H
X-Robots-Tag:noindex
X-PUBLISHED-TTL:PT1H
BEGIN:VTIMEZONE
TZID:UTC
BEGIN:STANDARD
TZOFFSETFROM:+0000
TZOFFSETTO:+0000
TZNAME:UTC
DTSTART:20180101T000000
END:STANDARD
TZID:Australia/Adelaide
BEGIN:STANDARD
TZOFFSETFROM:+1030
TZOFFSETTO:+0930
TZNAME:ACST
DTSTART:20180331T163000
END:STANDARD
BEGIN:DAYLIGHT
TZOFFSETFROM:+0930
TZOFFSETTO:+1030
TZNAME:ACDT
DTSTART:20181006T163000
END:DAYLIGHT
END:VTIMEZONE
BEGIN:VEVENT
DTSTART;TZID=UTC:20180812T120000
DTEND;TZID=UTC:20180812T160000
DTSTAMP:20260426T060030
CREATED:20180812T020753Z
LAST-MODIFIED:20180812T020753Z
UID:44648-1534075200-1534089600@whatsoninadelaide.net.au
SUMMARY:MARION ART GROUP MEETS SALA
DESCRIPTION:Marion Art Group is holding an art exhibition EVERY SUNDAY IN AUGUST from midday to 4pm at the Marino Community Hall\, 44 Newland Ave.\, Marino. There is a fantastic selection of framed\, unframed and miniature paintings for sale. Devonshire tea available for $5. Painting demonstrations throughout the afternoon. There is also a raffle (three paintings up for graps)\, all proceeds to Diabetes SA.  FREE entry. Everyone is welcome. We look forward in seeing you there is Sunday 12 August. See our website for further information www.marionartgroup.org
URL:https://whatsoninadelaide.net.au/event/marion-art-group-meets-sala/
LOCATION:Marino Community Hall\, 44 Newland Avenue\, Marino\, South Australia\, 5161\, Australia
CATEGORIES:Arts
ORGANIZER;CN="Marion Art Group":MAILTO:jeffkhague@bigpond.com
END:VEVENT
BEGIN:VEVENT
DTSTART;TZID=UTC:20180810T100000
DTEND;TZID=UTC:20180810T140000
DTSTAMP:20260426T060030
CREATED:20180724T001343Z
LAST-MODIFIED:20180724T001343Z
UID:43692-1533895200-1533909600@whatsoninadelaide.net.au
SUMMARY:Arts CareersFEST
DESCRIPTION:The Arts – Thinking Broadly – Careers Forum \nAre you studying art or design but not sure how you can utilise your skills toward a successful career? Come and listen to a variety of arts professionals share their experiences of how they got to where they are today\, the challenges and the highlights. This forum will open your mind to the vast possibilities that await you in an arts related industry. \nPresenters will include: \n– Paul Vasileff – Director\, Paolo Sebastian \n– Claire Foxton – Street Artist (NSW) \n– Matt Taylor – Contemporary Furniture Designer \n– Serena Wong – Arts\, Culture and Development Officer\, Riddoch Art Gallery \n– Thomas Readett – Artist/Tarnanthi Education Officer\, AGSA \n– Sera Waters – Artist and lecturer\, Adelaide Central School of Art \n– Rebecca Evans – Curator\, AGSA (in conversation with Artlab Australia) \n– Penny Griggs – General Manager\, South Australian Living Artist Festival (SALA) \nWhen Friday 10 August\, 10am – 2pm\nCost $10 student\, $5 equity/regional student\, $20 educators and parent/caregivers\nBookings email learning@artgallery.sa.gov.au (provide contact details\, name of school\, number and year level of students\, number of educators and parent/caregivers)\nTelephone (08) 8207 7033
URL:https://whatsoninadelaide.net.au/event/arts-careersfest/
LOCATION:Art Gallery of South Australia\, North Terrace\, Adelaide\, South Australia\, 5000\, Australia
CATEGORIES:Arts
END:VEVENT
BEGIN:VEVENT
DTSTART;TZID=UTC:20180807T080000
DTEND;TZID=UTC:20180807T170000
DTSTAMP:20260426T060030
CREATED:20180812T020752Z
LAST-MODIFIED:20180812T020752Z
UID:44628-1533628800-1533661200@whatsoninadelaide.net.au
SUMMARY:LETTICE & LOVAGE
DESCRIPTION:Lettice and Lovage. Lettice and Lovage is a comedic and satire play by Peter Shaffer. It is centered around a flamboyant tour guide who loves to embellish the history behind an English country house and who butts heads with a fact-conscious official at the house.
URL:https://whatsoninadelaide.net.au/event/lettice-lovage/
LOCATION:The Chapel Theatre\, 14 Commercial Road\, Strathalbyn\, SA\, 5255\, Australia
CATEGORIES:Arts
ORGANIZER;CN="Strathalbyn Players":MAILTO:jacqs067@gmail.com
END:VEVENT
BEGIN:VEVENT
DTSTART;TZID=Australia/Adelaide:20180805T140000
DTEND;TZID=Australia/Adelaide:20180805T170000
DTSTAMP:20260426T060030
CREATED:20180725T195735Z
LAST-MODIFIED:20180725T221441Z
UID:44078-1533477600-1533488400@whatsoninadelaide.net.au
SUMMARY:Mad Hatter and her Protege
DESCRIPTION:2018 SALA FESTIVAL – MAD HATTER AND HER PROTEGE – Meet the Maker\n2:00 PM to 5:00 PM    SUN\, 05/08/2018\nVENUE: Claymore Wines Cellar Door \nClaymore Wines SALA Exhibition ‘Meet the Maker’ of our featured pieces of wearable art. \nJoin us as we explore our creation and imagination. \nFeaturing pieces by Lorraine Gill\, Oksana Caretti\, Heaher Mackay Clark\, Christiania Moore\, Di Roberton\, Peta Stuart\, Louise Swann and Katie ‘Missy Boomsticks’ Spain.
URL:https://whatsoninadelaide.net.au/event/mad-hatter-and-her-protege/
LOCATION:SA
CATEGORIES:Arts,Food / Wine
END:VEVENT
BEGIN:VEVENT
DTSTART;TZID=UTC:20180805T110000
DTEND;TZID=UTC:20180805T130000
DTSTAMP:20260426T060030
CREATED:20180804T165629Z
LAST-MODIFIED:20180804T165629Z
UID:44286-1533466800-1533474000@whatsoninadelaide.net.au
SUMMARY:Tjungu Pakani - Traditional Silk Batik Workshop
DESCRIPTION:The women of Titjikala\, an Indigenous community in the Northern Territory\, are acclaimed for their unique silk Batik practice. This Sunday\, along with artists from ‘The Art Bus’\, the Titjikala women are holding two Batik Workshops where you can learn their techniques and experience this rich cultural art form firsthand. \nTicket cost includes all materials. \nThe workshop is held as part of  the SALA 2018 festival\, and in relation to other Tjungu Pakani workshops\, culminating in a performance by the Titjikala Women’s Choir and the opening of an exhibition at the Ayers House Museum to celebrate cultural diversity. \nFor more information see: http://soundstream.org.au/2018/07/tjungu-pakani-together-we-rise/ \nTo keep updated visit: https://www.facebook.com/events/499643127140969/ \nThis event is held in association with Soundstream Music and the J. M. Coetzee Centre for Creative Practice\, and is generously supported by The Adelaide City Council\, The National Trust of South Australia\, Renewal SA\, The Centre for Aboriginal Studies in Music\, The University of Adelaide\, and The Art Bus.
URL:https://whatsoninadelaide.net.au/event/tjungu-pakani-traditional-silk-batik-workshop/
LOCATION:Lot 14\, Former RAH\, 14 North Terrace\, Adelaide\, South Australia\, 5000\, Australia
CATEGORIES:Arts
ORGANIZER;CN="Soundstream":MAILTO:info@soundstream.org.au
END:VEVENT
BEGIN:VEVENT
DTSTART;TZID=UTC:20180804T110000
DTEND;TZID=UTC:20180804T170000
DTSTAMP:20260426T060030
CREATED:20180804T165628Z
LAST-MODIFIED:20180804T165628Z
UID:44263-1533380400-1533402000@whatsoninadelaide.net.au
SUMMARY:SALA The Art of Winemaking - The Resurrection
DESCRIPTION:Richard Lyons is one of Australia’s leading photographers\, renowned for his work featuring people. He has had an association and friendship with the S.C.Pannell Winery since it’s inception and has created some beautiful images of the evolving winery\, events and the family behind it. The Art of Winemaking – The Resurrection features one of Australia’s leading winemakers Stephen Pannell as never seen before. Richard’s passion for his craft\, and ability to engage his subjects\, results in extraordinary and intriguing photographs and installations. \nMonday – Sunday 11am-5pm\n4 August – 2 September \nSee the SALA event page for all the details.\nhttps://www.salafestival.com/artfuel/program/view/1330/the-art-of-winemaking-the-resurrection
URL:https://whatsoninadelaide.net.au/event/sala-the-art-of-winemaking-the-resurrection/
LOCATION:S.C. Pannell Wines\, 60 Olivers Road\, McLaren Vale\, South Australia 5171\, Australia
CATEGORIES:Arts,Food / Wine
ORGANIZER;CN="S.C.Pannell":MAILTO:sc@pannell.com.au
END:VEVENT
BEGIN:VEVENT
DTSTART;TZID=UTC:20180801T110000
DTEND;TZID=UTC:20180801T160000
DTSTAMP:20260426T060030
CREATED:20180804T165550Z
LAST-MODIFIED:20180804T165550Z
UID:44140-1533121200-1533139200@whatsoninadelaide.net.au
SUMMARY:Gerry Wedd and Julia McInerney: SA Artist Commissions 2018
DESCRIPTION:ACE Open South Australian Artist Commissions 2018\n—————————————-\nGerry Wedd\, SONGS FOR A ROOM\nJulia McInerney\, The Garden\n—————————————-\nOPENING\nFriday 27 July\, 5pm\, free\nOpening remarks by Penny Griggs\, General Manager SALA Festival \nEXHIBITION DATES\n28 July—15 September \n—————————————-\nGerry Wedd\, SONGS FOR A ROOM\n—————————————-\nEnter the iconic world of South Australia’s most celebrated potter\, fringe dweller\, savant gardener and pretty-good-surfer\, Gerry Wedd. \n‘SONGS FOR A ROOM’ draws on 40 years of artistic practice and an encyclopaedia of personal interests to present Wedd’s most ambitious project yet. Inspired by Victor Hugo’s tiled dining room\, more than 1000 handmade tiles and domestic objects form a frenzied and immersive installation that subverts traditional museum displays of domestic handicrafts. Wedd creates a dizzyingly opulent world\, where song writing\, Delft tile painting\, popular culture and art history collide with current socio-political issues. \nAs part of Wedd’s commentary on the commodification of art and culture in a time when people continue to live below the poverty line\, each tile in this speculative shelter is available to purchase\, with 50% of proceeds donated to Adelaide Day Centre for Homeless Persons. \nPUBLIC PROGRAMS\n—A History of Ceramics with Gerry Wedd\nSaturday 11 August 2pm-3pm | Free\, no bookings required\nRead more: http://bit.ly/GWHistoryCeramics \n—A Sunday Drive: Studio visit and tile making workshop\nSunday 9 September\, 10am-4.30pm | $175/$139\nBookings and more information: http://bit.ly/GWSundayDrive \nGERRY WEDD (born 1957) is one of Australia’s most celebrated ceramicists. Having studying jewellery\, painting\, and drawing\, Wedd obtained a Masters in Fine Art from the University of South Australia in 2005. Early on in his career\, Wedd became a graphic artist for quintessential Australian design company Mambo\, where he continued to design for them until 2006. Wedd has exhibited extensively in Australia and internationally\, including Havana Bienal\, JamFactory\, Ian Potter Museum of Art and Victoria and Albert Museum. He has received numerous awards including the Hobart Art Prize in 2010 and the 1998 Sidney Myer Fund International Ceramics Award and is represented in public collections around the country including the Art Gallery of South Australia\, Powerhouse Museum – Museum of Applied Arts and Sciences\, National Gallery of Australia\, National Gallery of Victoria\, Shepparton Art Museum and Queensland University of Technology. \n—————————————-\nJulia McInerney\, The Garden\n—————————————-\nTraverse literature and sculpture in ‘The Garden’\, a new immersive exhibition by Julia McInerney\, 2017 winner of SALA Festival’s major contemporary art award. \nBuilding on McInerney’s celebrated previous works\, the exhibition expands on her interest in translation between text and material forms\, as well as the symbolic significance of the apple. ‘The Garden’ comprises new photographic works\, hand-carved Applewood sculptures\, and a large-scale floor installation of hand-cast concrete tiles\, all ordered and contained in a monochromatic vista. \nThrough her ongoing interest in studies of literature and reading\, McInerney approaches Walter Benjamin’s idea of ‘reading oneself backwards’ in ‘The Garden’. How can our recollection of past events inform our present and future experiences? \nPUBLIC PROGRAMS\n—Footnotes\nVarious dates | Free\, no bookings required\nRead more: http://bit.ly/JMfootnotes \nJULIA MCINERNEY (born 1989\, Adelaide) lives and works in Melbourne\, Victoria. Recent exhibitions include Archipelago\, Greenaway Art Gallery; Guirguis New Art Prize 2017\, Post Office Gallery Ballarat; 2016 TarraWarra Biennial: Endless Circulation\, TarraWarra Museum of Art; CACSA Contemporary 2015\, Greenaway Art Gallery; Eden Eden Eden\, MOP Projects; and Daughters of Chaos\, Deleuze Studies International Conference\, Konstfack University College of Arts and Crafts. Julia was the recipient of the 2017 SALA Contemporary Art Prize\, the 2015 Ruth Tuck Scholarship for Visual Arts and the 2015 Adelaide Critics Circle Emerging Artist Award. Julia is represented by GAGPROJECTS | Greenaway Art Gallery\, Adelaide/Berlin. \n—————————————-\nACE OPEN———TUE-SAT 11AM-4PM\naceopen.art———@ACE_Open\n—————————————-
URL:https://whatsoninadelaide.net.au/event/gerry-wedd-and-julia-mcinerney-sa-artist-commissions-2018/
LOCATION:ACE Open\, Lion Arts Centre\, North Terrace\, Adelaide\, South Australia 5000\, Adelaide\, Australia
CATEGORIES:Arts
END:VEVENT
BEGIN:VEVENT
DTSTART;TZID=UTC:20180801T070000
DTEND;TZID=UTC:20180831T160000
DTSTAMP:20260426T060030
CREATED:20180804T165630Z
LAST-MODIFIED:20180804T165630Z
UID:44321-1533106800-1535731200@whatsoninadelaide.net.au
SUMMARY:SALA 2018 Art Exhibition - Chasing Dancing Colours by Visual Artist Charlie Albright
DESCRIPTION:Chasing Dancing Colours by Visual Artist Charlie Albright \nThe theme for this abstract art exhibition will be the chase of dancing colours on the canvas. It will be a visual expression of the emotional and physical ebb and flow of life through colour and texture. \nIf this concept resonates with you\, then please view the exhibition during the festival month of August. \nAll Chasing Dancing Colours exhibition pieces will be available for in-person viewing at the venue during their trade hours\, and online viewing via our dedicated SALA 2018 page on the Moments by Charlie website at momentsbycharlie.com. \n  \nFREE LIVE PAINTING EVENTS \nDuring the exhibition\, free live painting events will also be hosted at the venue. All are welcome\, including kids. \nAugust 8th 11 am – 12.30pm \nAugust 23rd 11 am – 12.30pm \nPre-register your attendance to claim a free goodie bag for pick-up on the day. To pre-register please send an email to hello@momentsbycharlie.com with your name and date of attendance. \n  \nFUNDRAISER \nThe Chasing Dancing Colours art exhibition will also be using the SALA Festival event as an opportunity to raise funds for the following charities: RAH (Royal Adelaide Hospital)\, WCH (Women’s and Children’s Hospital)\, RMH (Royal Melbourne Hospital) and beyondblue. \nIn order to raise funds for these local and national charities\, a select number of artworks in the exhibition collection will be marked with the corresponding charity\, and a portion of proceeds from the sale of that artwork during the SALA Festival will be donated. \n  \nVENUE DETAILS \nErb ‘N’ Flo is located at 153 Sturt St\, Adelaide (very close to Whitmore Square). \nIt’s open 7am to 4pm Monday to Saturday\, and 9am to 4pm on Sundays. Coffee\, food and art is available all day! \nThe Chasing Dancing Colours exhibition will be on display at the café from Wednesday August 1st to Friday August 31st\, available for viewing during trading hours.
URL:https://whatsoninadelaide.net.au/event/sala-2018-art-exhibition-chasing-dancing-colours-by-visual-artist-charlie-albright/
LOCATION:Erb ‘N’ Flo Cafe & Breakfast Bar\, 153 Sturt St\, Adelaide\, SA\, 5000\, Australia
CATEGORIES:Arts,Family,General
ORGANIZER;CN="Moments by Charlie":MAILTO:hello@momentsbycharlie.com
END:VEVENT
BEGIN:VEVENT
DTSTART;VALUE=DATE:20180801
DTEND;VALUE=DATE:20180802
DTSTAMP:20260426T060030
CREATED:20180711T204513Z
LAST-MODIFIED:20180711T232248Z
UID:43516-1533081600-1533167999@whatsoninadelaide.net.au
SUMMARY:SALA Festival
DESCRIPTION:The South Australian Living Artists (SALA) Festival is a state-wide festival of visual art. \nThe SALA Festival was established in 1998 to promote and celebrate the many talented artists in SA and has grown into the largest celebration of visual arts in Australia. In 2018 SALA Festival has over 700 participating venues and 9\,000 participating artists. \nPhoto by Sam Roberts \n 
URL:https://whatsoninadelaide.net.au/event/sala-festival/
LOCATION:Various\, Australia
CATEGORIES:Arts
ORGANIZER;CN="SALA":MAILTO:office@salafestival.com
END:VEVENT
BEGIN:VEVENT
DTSTART;TZID=UTC:20180717T120639
DTEND;TZID=UTC:20180717T120639
DTSTAMP:20260426T060030
CREATED:20180724T001343Z
LAST-MODIFIED:20180724T001343Z
UID:43697-1531829199-1531829199@whatsoninadelaide.net.au
SUMMARY:The Wind in the Willows
DESCRIPTION:Everyone’s favourite family entertainment Glenn Elston’s Production of Kenneth Grahame’s THE WIND IN THE WILLOWS coming to the Adelaide Botanic Garden. \n“You’ll love this production – no matter what age you are” – The Sun Herald \n“Pure charm for adults and children alike” – The Age \nAustralia’s favourite family entertainment The Wind in the Willows is heading to the Adelaide Botanic Garden for the Spring School Holidays playing from Saturday 29 September to Sunday 14 October. \nKenneth Grahame’s immortal story of life on the riverbank is a rollicking yet gentle adventure\, starring the impulsive\, frolicsome and always hilarious Mr. Toad – a favourite with children worldwide. Toad\, along with his better-behaved friends\, Ratty\, Mole\, Otter and Badger\, as well as the rascally Weasel\, are coming to life this spring in Adelaide providing enchanting and lively entertainment for all the family. \nThis critically acclaimed outdoor theatre production returning from its second sold out season in London’s Kew Gardens\, delivers music\, songs and lots of laughs. There is fun for young and old as the Head Chief Rabbit transforms all the audience into rabbits with a waggle of the ears\, a wiggle of the nose and before they know it\, they are on a interactive adventure story. Then it’s time to join in the fun as we follow Toad on the open road\, sing along with Ratty’s Ducks Ditty\, search for Portly\, the little lost Otter in the Wild Wood and above all join the battle to save Toad Hall. \nWith laughs and surprises for children and adults\, this is interactive theatre at its best… so this Spring pack a picnic\, pack the kids… and head on down to the Adelaide Botanic Garden. \nDATES: 29 September to 14 October 2018\nWHERE: Adelaide Botanic Garden\, North Terrace\, Adelaide\nWHEN: Tues to Thu 10.00am; Friday & Sat 10am & 2pm; Sun 7 Oct 10am; Sun 14 Oct 2pm\nPRICES: Adult/Child $25-$30; Family (group of 4) $90-$110
URL:https://whatsoninadelaide.net.au/event/the-wind-in-the-willows/
LOCATION:SA
CATEGORIES:Arts,Family
END:VEVENT
END:VCALENDAR