BEGIN:VCALENDAR
VERSION:2.0
PRODID:-//Whats On In Adelaide - ECPv6.9.0//NONSGML v1.0//EN
CALSCALE:GREGORIAN
METHOD:PUBLISH
X-ORIGINAL-URL:https://whatsoninadelaide.net.au
X-WR-CALDESC:Events for Whats On In Adelaide
REFRESH-INTERVAL;VALUE=DURATION:PT1H
X-Robots-Tag:noindex
X-PUBLISHED-TTL:PT1H
BEGIN:VTIMEZONE
TZID:UTC
BEGIN:STANDARD
TZOFFSETFROM:+0000
TZOFFSETTO:+0000
TZNAME:UTC
DTSTART:20180101T000000
END:STANDARD
TZID:Australia/Adelaide
BEGIN:STANDARD
TZOFFSETFROM:+1030
TZOFFSETTO:+0930
TZNAME:ACST
DTSTART:20180331T163000
END:STANDARD
BEGIN:DAYLIGHT
TZOFFSETFROM:+0930
TZOFFSETTO:+1030
TZNAME:ACDT
DTSTART:20181006T163000
END:DAYLIGHT
TZID:Australia/Adelaide
BEGIN:STANDARD
TZOFFSETFROM:+1030
TZOFFSETTO:+0930
TZNAME:ACST
DTSTART:20180331T163000
END:STANDARD
BEGIN:DAYLIGHT
TZOFFSETFROM:+0930
TZOFFSETTO:+1030
TZNAME:ACDT
DTSTART:20181006T163000
END:DAYLIGHT
END:VTIMEZONE
BEGIN:VEVENT
DTSTART;TZID=UTC:20180519T190000
DTEND;TZID=UTC:20180519T230000
DTSTAMP:20260426T085739
CREATED:20180416T044130Z
LAST-MODIFIED:20180416T044130Z
UID:39529-1526756400-1526770800@whatsoninadelaide.net.au
SUMMARY:The Tasting Bench Wine Discovery Dinner
DESCRIPTION:This SATURDAY MAY 19TH\, we’ll be serving you a superb selection of six limited and exclusive wines from across six wine regions by six exceptional winemakers at our Tasting Bench Wine Discovery Dinner. \nIf you love the fun and intrigue that comes with discovering a new wine or winemaker\, then this is great way to acquaint yourself with a range high quality wines from a select group of quality producers in a unique long table\, three course wine dinner experience.\n​\nThis is more than just a random mix-tape of wines; each wine has been selected to represent a variety that thrives in its region\, and each made by a winemaker with the experience and wine-smarts to bring out the best of the variety. And of course\, served up with all the fun\, games and conversation of a Tasting Bench Wine Dinner.
URL:https://whatsoninadelaide.net.au/event/the-tasting-bench-wine-discovery-dinner/
LOCATION:Pranzo Restaurant\, 46 Exchange Place\, Adelaide\, South Australia\, 5000\, Australia
CATEGORIES:Food / Wine
ORGANIZER;CN="The Tasting Bench":MAILTO:cheers@tastingbench.com.au
END:VEVENT
BEGIN:VEVENT
DTSTART;TZID=UTC:20180519T130000
DTEND;TZID=UTC:20180519T143000
DTSTAMP:20260426T085739
CREATED:20180417T015752Z
LAST-MODIFIED:20180417T015752Z
UID:39876-1526734800-1526740200@whatsoninadelaide.net.au
SUMMARY:Jeanneret Shiraz Masterclass - Clare Valley Gourmet Weekend
DESCRIPTION:Join our winemakers for a unique and memorable Jeanneret Shiraz masterclass. Enjoy a journey down memory lane including eight vintages of Jeanneret Shiraz including our flagship Denis Shiraz.\n~ $59pp including a redeemable gift voucher\n~ Bookings essential via phone or email
URL:https://whatsoninadelaide.net.au/event/jeanneret-shiraz-masterclass-clare-valley-gourmet-weekend/
LOCATION:Jeanneret Wines\, Jeanneret Road\, Sevenhill\, SA\, 5453\, Australia
CATEGORIES:Food / Wine
ORGANIZER;CN="Jeanner Wines":MAILTO:info@jeanneretwines.com
END:VEVENT
BEGIN:VEVENT
DTSTART;TZID=UTC:20180519T100000
DTEND;TZID=UTC:20180519T170000
DTSTAMP:20260426T085739
CREATED:20180417T015752Z
LAST-MODIFIED:20180417T015752Z
UID:39839-1526724000-1526749200@whatsoninadelaide.net.au
SUMMARY:Into the Woods – Clare Valley Gourmet Weekend
DESCRIPTION:Jeanneret Wines & Clare Valley Brewing\nBack by request\, our gourmet adventure continues with Kitchen and Catering by Sam! Jeanneret in conjunction with Clare Valley Brewing invites you back Into the Woods to the venue that has it all\, literally. Tantalise your taste buds with frosé\, sangria\, specialty CVBC brews\, plus your favourite Jeanneret wines. Party the day away with entertainment by Jimmy Flamingo Party Cartel. Gourmet breakfast on the Sunday morning. \nSaturday 19th May 10am – 5pm \nSunday 20th May 9am – 5pm
URL:https://whatsoninadelaide.net.au/event/into-the-woods-clare-valley-gourmet-weekend/
LOCATION:Jeanneret Wines\, Jeanneret Road\, Sevenhill\, SA\, 5453\, Australia
CATEGORIES:Food / Wine
ORGANIZER;CN="Jeanneret Wines":MAILTO:info@jeanneretwines.com
END:VEVENT
BEGIN:VEVENT
DTSTART;TZID=UTC:20180517T080000
DTEND;TZID=UTC:20180517T170000
DTSTAMP:20260426T085739
CREATED:20180522T232326Z
LAST-MODIFIED:20180522T232326Z
UID:40885-1526544000-1526576400@whatsoninadelaide.net.au
SUMMARY:Winterfest 2018
DESCRIPTION:Our Port Winterfest is returning bigger\, better and COOLER than ever. And it’s FREE! Snowballing into historic Hart’s Mill you’ll once again find the spectacular waterfront ice-skating rink\, winter markets\, live shows with huge name acts\, workshops for young and old\, feasts for foodies and so much more.
URL:https://whatsoninadelaide.net.au/event/winterfest-2018/
LOCATION:Hart’s Mill\, Mundy Street\, Port Adelaide\, South Australia\, 5015\, Australia
CATEGORIES:Family,Food / Wine,General,Music
END:VEVENT
BEGIN:VEVENT
DTSTART;TZID=UTC:20180513T123000
DTEND;TZID=UTC:20180513T153000
DTSTAMP:20260426T085739
CREATED:20180417T050527Z
LAST-MODIFIED:20180417T050527Z
UID:39595-1526214600-1526225400@whatsoninadelaide.net.au
SUMMARY:Passion & Purpose Mothers Day Lunch Fundraiser
DESCRIPTION:Mothers Day Fundraiser Lunch \nPassion & Purpose in partnership with Treasure Boxes are putting on a wonderful Mothers Day Luncheon to celebrate the special women in our lives. \nLet us help you make this Mothers Day extraordinary and treat the ladies in your life to something special that they will remember for years to come! We will have a lucky door prize and some amazing raffle prizes to help celebrate the day. \nLet the amazing Rob Roy team spoil you with wonderful service while you indulge in a delicious menu. \nGuests will enjoy ….. \nComplimentary champagne on arrival\nStarters: Stunning Grazing Platter\nMain: Alternating Main Courses (Alternate drop)\nDessert: Shared dessert platter to enjoy \nOur children’s menu is also available for kids under 12 for $35. \nThis event will book out early\, so be quick to lock in your little slice of Mother’s Day ‘Passion & Purpose” style. \nNote: Treasure Boxes is a wonderful local charity that gives much-needed support for children and families living in disadvantage\, by providing them with basic and essential needs.
URL:https://whatsoninadelaide.net.au/event/passion-purpose-mothers-day-lunch-fundraiser/
LOCATION:The Rob Roy Hotel\, 106 Halifax Street\, Adelaide (CBD)\, South Australia\, 5000\, Australia
CATEGORIES:Family,Food / Wine,General
ORGANIZER;CN="Danae Thyssen":MAILTO:passionandpurpose4u@gmail.com
END:VEVENT
BEGIN:VEVENT
DTSTART;TZID=UTC:20180513T110000
DTEND;TZID=UTC:20180513T170000
DTSTAMP:20260426T085739
CREATED:20180507T015707Z
LAST-MODIFIED:20180507T015707Z
UID:40488-1526209200-1526230800@whatsoninadelaide.net.au
SUMMARY:Electra House Hotel's Mother's Day Bottomless Brunch
DESCRIPTION:Bottomless Brunch is BACK for a very special Mother’s Day edition! \nSpoil your mum with a three course sharing menu including: \nHouse-made bircher muesli with yoghurt\, apple and berries\nCharred watermelon salad with mint\, feta and orange segments\nGypsy eggs – baked eggs\, tomato\, chorizo and cannellini beans\nPastries and petit fours \nAll paired with bottomless Prosecco\, Mimosas\, Bloody Mary’s and NEW cocktail carafes. \nTickets – $65 all inclusive for 1.5 hours on the table – 2 seating times available starting from 11am and 1pm. \nPlease contact us via info@electrahouse.com.au or on 7123 4055 to secure your seats.
URL:https://whatsoninadelaide.net.au/event/electra-house-hotels-mothers-day-bottomless-brunch/
LOCATION:Electra House Hotel\, 131 - 139 King William Street\, Adelaide\, South Australia 5000\, Australia
CATEGORIES:Food / Wine,General
END:VEVENT
BEGIN:VEVENT
DTSTART;TZID=UTC:20180508T080000
DTEND;TZID=UTC:20180508T170000
DTSTAMP:20260426T085739
CREATED:20180512T205838Z
LAST-MODIFIED:20180512T205838Z
UID:40711-1525766400-1525798800@whatsoninadelaide.net.au
SUMMARY:Exclusive Champagne Dinner Hosted by Romaric Behaghel
DESCRIPTION:Please join us for an exquisite Champagne journey of five courses matched with the unique styles and vintages of Perrier-Jouët and Mumm. \nTickets are extremely limited so don’t miss your chance to be a part of this exclusive Champagne dinner with the effervescent Romaric Behaghel\, the Champagne and Cognac Brand Ambassador at Pernod Ricard Australia. \nWe hope you can join us for this very special event. \nPlease notify us of any dietary requirements prior to 30 May 2018.
URL:https://whatsoninadelaide.net.au/event/exclusive-champagne-dinner-hosted-by-romaric-behaghel/
LOCATION:Adelaide National Wine Centre\, Cnr Botanic & Hackney Road\, Adelaide\, SA\, 5000\, Australia
CATEGORIES:Food / Wine
END:VEVENT
BEGIN:VEVENT
DTSTART;TZID=Australia/Adelaide:20180506T110000
DTEND;TZID=Australia/Adelaide:20180506T160000
DTSTAMP:20260426T085739
CREATED:20180416T055636Z
LAST-MODIFIED:20180416T055636Z
UID:39645-1525604400-1525622400@whatsoninadelaide.net.au
SUMMARY:Kodomo no Hi Japan Festival
DESCRIPTION:Kodomo no Hi Japan Festival is the largest Japanese festival in Adelaide\, held annually since 1995. The festival is a celebration of the cultural and social links between the people of Japan and Australia. It is a great day for people of all ages and backgrounds to enjoy Japanese food\, performances\, martial arts\, craft\, music and much more! \nTranslated\, Kodomo no Hi means ‘Children’s Day’ and is a Japanese national holiday which takes place on May 5 – the fifth day of the fifth month. It is a day set aside to respect children’s personalities and to celebrate their happiness. \nMulti award-winning event\, including the 2018 City of West Torrens Community Event of the Year award. \nFeaturing: \nJapanese food and drinks · Performances · Music · Martial Arts · Maid Café · Games · Ikebana · Bonsai · Origami · Calligraphy · Kimono Wearing · Mochitsuki Demonstration · Tea Ceremony · Train Simulation · Retro Gaming · Handmade Goods · plus more! \nFamily Friendly · Free Parking · Come in Japanese costume \nAccess: \n\nLimited free parking available on the oval – enter from Ashwin Parade.\nDisabled parking available – enter from South Road.\n\nPublic transport from Adelaide CBD: \n\nBus B10 bound for West Lakes – alight at Stop 6 on South Road.\nBus 286/287/288 bound for Henley Beach – alight at Stop 5B on West Thebarton Road.
URL:https://whatsoninadelaide.net.au/event/kodomo-no-hi-japan-festival/
LOCATION:Thebarton Community Centre – Corner South Road and Ashwin Parade\, Torrensville\, Corner South Road and Ashwin Parade\, Torrensville\, South Australia\, 5031\, Australia
CATEGORIES:Family,Food / Wine,General
ORGANIZER;CN="Japan Australia Friendship Association (JAFA)":MAILTO:kaicho@jafa.asn.au
END:VEVENT
BEGIN:VEVENT
DTSTART;TZID=UTC:20180505T100000
DTEND;TZID=UTC:20180505T160000
DTSTAMP:20260426T085739
CREATED:20180417T164818Z
LAST-MODIFIED:20180417T164818Z
UID:39516-1525514400-1525536000@whatsoninadelaide.net.au
SUMMARY:National Wine Education & Training Centre - Understanding Wine Weekend Course
DESCRIPTION:A wine education and appreciation course held over two consecutive Saturdays\, 10 am – 4 pm (lunch included) at the National Wine Centre. \nThis course is for people who enjoy drinking wine and aspire to learn more about what they’re tasting\, smelling and experiencing.  Over 2 days you’ll explore a range of wine styles\, varieties\, blends\, and regions as our educators guide you through how to swirl\, sniff and taste like a professional. \nBy course end\, you’ll understand more about aroma and taste and you’ll know how to express it. You will gain confidence as a wine consumer and have fun with like-minded people in a relaxed and informal setting at the National Wine Centre. This course is ideal for those starting out in the hospitality or wine industry.
URL:https://whatsoninadelaide.net.au/event/national-wine-education-training-centre-understanding-wine-weekend-course/
LOCATION:National Wine Centre\, Cnr Botanic and Hackney Roads\, Adelaide\, SA\, 5000\, Australia
CATEGORIES:Food / Wine
ORGANIZER;CN="National Wine Education &amp%3B Training Centre":MAILTO:admin@winesa.asn.au
END:VEVENT
BEGIN:VEVENT
DTSTART;TZID=UTC:20180504T160000
DTEND;TZID=UTC:20180506T170000
DTSTAMP:20260426T085739
CREATED:20180512T205836Z
LAST-MODIFIED:20180512T205836Z
UID:40470-1525449600-1525626000@whatsoninadelaide.net.au
SUMMARY:Bowerbird Design Market
DESCRIPTION:Adelaide’s prized event\, Bowerbird Design Market brings together work by more than 170 innovative Australian artists and designers twice a year in a spacious\, curated and well-designed setting at the Adelaide Showground. \nPerfectly positioned 4-6 May\, the weekend before Mothers Day\, bring your Mum and join for the launch of Autumn/Winter collections across furniture\, lighting\, homewares\, clothing and accessories\, stationery and artwork.  \nAn event full of heart and soul… take part in creative workshops and watch demonstrations\, enjoy delicious local artisan-made food and beverages and relax to cool tunes. \n4-6 May 2018 \nFri 4 – 9pm   l     Sat + Sun 10am – 5pm
URL:https://whatsoninadelaide.net.au/event/bowerbird-design-market/
LOCATION:The Wayville Pavilion\, Adelaide Showground\, Goodwood Road\, Wayville\, SA\, 5034
CATEGORIES:Family,Food / Wine
ORGANIZER;CN="Jane Barwick":MAILTO:info@bowerbirdbazaar.com.au
END:VEVENT
BEGIN:VEVENT
DTSTART;TZID=UTC:20180503T190000
DTEND;TZID=UTC:20180503T210000
DTSTAMP:20260426T085739
CREATED:20180416T233147Z
LAST-MODIFIED:20180417T045140Z
UID:39510-1525374000-1525381200@whatsoninadelaide.net.au
SUMMARY:National Wine Education & Training Centre - Understanding Wine Course
DESCRIPTION:A wine education and appreciation course held over 5 weeks\, 1 session per week\, 2 hours per session\, 7 pm – 9 pm at the National Wine Centre. \nThis course is for people who enjoy drinking wine and aspire to learn more about what they’re tasting\, smelling and experiencing. Over the course of 5 weeks\, you’ll explore a range of wine styles\, varieties\, blends\, and regions as our educators guide you through how to swirl\, sniff and taste like a professional. \nBy course end\, you’ll understand more about aroma and taste and you’ll know how to express it. You will gain confidence as a wine consumer and have fun with like-minded people in a relaxed and informal setting at the National Wine Centre. This course is ideal for those starting out in the hospitality or wine industry.
URL:https://whatsoninadelaide.net.au/event/national-wine-education-training-centre-understanding-wine-course/
LOCATION:National Wine Centre\, Cnr Botanic and Hackney Roads\, Adelaide\, SA\, 5000\, Australia
CATEGORIES:Food / Wine
ORGANIZER;CN="National Wine Education &amp%3B Training Centre":MAILTO:admin@winesa.asn.au
END:VEVENT
BEGIN:VEVENT
DTSTART;TZID=UTC:20180429T100000
DTEND;TZID=UTC:20180429T170000
DTSTAMP:20260426T085739
CREATED:20180416T044344Z
LAST-MODIFIED:20180416T044344Z
UID:39579-1524996000-1525021200@whatsoninadelaide.net.au
SUMMARY:The Dutch Festival 2018
DESCRIPTION:Running since 1994 Adelaide’s largest Dutch Festival is on again after 2017 saw more than 5\,000 Aussies walk through the doors of the club rooms\, The Dutch Club SA with generous support of Multicultural SA is proud to announce the now annual festival to be hosted on Sunday April 29th 2018! \nIt is well known that the Dutch are some of the most enthusiastic festival goers in the world\, so it only makes sense that on their monarch’s birthday that the Dutch let their hair down with a bit of festival cheer! ‘Koningsdag’ or King’s Day for the English speakers is the largest festival in the Netherlands\, celebrating King Willem-Alexander 50th birthday. Traditionally held on the 27th of April the festival in Holland is known as an ‘anything goes’ event with royal taxes not applying on the day and citizens lining the streets with massive flea markets known as ‘vrijmarkt’. \nBack in Australia\, The Dutch Club SA continue the festive vibe bringing the biggest market we can fit into our club grounds\, we also packed the festival with entertainment\, arts and crafts\, traditional Dutch meals\, Dutch games\, live music\, kids entertainment\, face painting\, Dutch beers/ spirits and a whole bunch more! \nWith orange the national colour of the royal family we don our royal colours with pride\, covering ourselves from head to toe in bright colour! \nSo throw on some orange\, grab a bottle of Oranje bitter and a kroket or 10 and come spend a day with the Dutch. \nAnd of course\, Entry is free!!! \nIf you have any other questions or just want to say ‘Hello’ you can contact us via our Facebook page or by emailing festival@dutchclub.com.au.
URL:https://whatsoninadelaide.net.au/event/the-dutch-festival-2018/
LOCATION:The Dutch Club\, 21 Greenfields Avenue\, Green Fields\, South Australia\, 5095\, Australia
CATEGORIES:Family,Food / Wine,General
ORGANIZER;CN="The Dutch Club":MAILTO:kaiit@dutchclub.com.au
END:VEVENT
BEGIN:VEVENT
DTSTART;TZID=UTC:20180427T080000
DTEND;TZID=UTC:20180427T170000
DTSTAMP:20260426T085739
CREATED:20180512T205837Z
LAST-MODIFIED:20180512T205837Z
UID:40513-1524816000-1524848400@whatsoninadelaide.net.au
SUMMARY:Mother’s Day Lunch – 3 courses $35
DESCRIPTION:Enjoy a sumptuous Mother’s Day Lunch by the Beach\n3 courses for $35 + Live Acoustic Performance by Zoe Miller from 1:30pm\nEntrée  \nKing Island 3 Cheese & Roasted Walnut Tart\, rocket salad (V) \nBush Spiced Squid on Moroccan Cous Cous\, lemon yoghurt (NF)  \nOven Roasted Tomato\, Char-grilled Zucchini\, sweet potato chips (VE)(GF) \nMains  \nSalmon Fillet\, spiced Beetroot relish\, potato rounds\, Shaved asparagus (GF)(NF) )(DF) \nProsciutto-wrapped Chicken Breast\, potato galette\, brocollini\, Pesto cream (GF) \nStuffed Capsicum & Vegetable Pilaf\, baby spinach\, sticky balsamic (VE)(NF)(DF) \nDessert \nAustralian Cheese Selection\, dried fruit\, nuts\, crackers \nLime Sorbet with Limoncello Syrup\, and Mint (GF)(DF)(VE)(NF) \nBaileys Panna cotta\, berry coulis\, (GF)(NF)
URL:https://whatsoninadelaide.net.au/event/mothers-day-lunch-3-courses-35/
LOCATION:Adelaide Sailing Club\, Barcoo Road\, West Beach\, South Australia\, 5024\, Australia
CATEGORIES:Family,Food / Wine,Music
END:VEVENT
BEGIN:VEVENT
DTSTART;VALUE=DATE:20180422
DTEND;VALUE=DATE:20180423
DTSTAMP:20260426T085739
CREATED:20180304T200141Z
LAST-MODIFIED:20180408T003141Z
UID:39090-1524355200-1524441599@whatsoninadelaide.net.au
SUMMARY:McLaren Vale Vintage & Classic 2018
DESCRIPTION:McLAREN VALE VINTAGE & CLASSIC 2018 \nCharity Dinner 6-30 Saturday April 21st at Serafino with special guest Colin Bond former Australian Rally Champion 1971\,72 & 74 as well as Bathurst winner 1969 and inducted into V8 Supercars Hall of Fame 2002. \nMain Street Parade Sunday April 22nd starting from Serafino at 11-00am. Free Community Event\, come and join in lining the Main St of McLaren Vale and cheer the parade of 500+ vehicles. Then make your way to one of the participating Wineries for lunch\, listen to music and enjoy the cars up close. \nDetails and entry forms www.vintageandclassic.com.au or 0415820719
URL:https://whatsoninadelaide.net.au/event/mclaren-vale-vintage-classic-2018/
LOCATION:Main Street McLaren Vale\, Main Street\, McLaren Vale\, South Australia\, 5171\, Australia
CATEGORIES:Family,Food / Wine,Music
ORGANIZER;CN="Trevor Sharp":MAILTO:vintageandclassic@hotmail.com
END:VEVENT
BEGIN:VEVENT
DTSTART;TZID=UTC:20180421T190000
DTEND;TZID=UTC:20180421T233000
DTSTAMP:20260426T085739
CREATED:20180417T004647Z
LAST-MODIFIED:20180417T004647Z
UID:39443-1524337200-1524353400@whatsoninadelaide.net.au
SUMMARY:WineLovers Vintage Ball - Lets Jazz it Up! #chatsby
DESCRIPTION:UNEARTHING WINELOVERS SOCIAL GROUP\nWineLovers Vintage Ball – Lets Jazz it Up! #chatsby\nGood mental health is a sense of well being\, confidence and self-esteem\nWe fundraise for Chat ‘n’ Chew managed by Uniting Care Wesley\, Port Adelaide. The program provides an opportunity for more than 700 people each year to enjoy some independence\, make friends and feel connected with others in our local community. one in five Australians will suffer from a mental illness in any given year.\nSUPPORT OUR FUNDRAISING EFFORTS! WE’D LOVE YOU TO JAZZ UP TOO. ANYTHING FROM SPATTS TO SPARKLES\, TO SWING SKIRTS AND STEAM PUNK STUDS. JOIN US FOR THE   \nWineLovers Vintage Ball – Lets Jazz it Up! #chatsby\nSATURDAY 21 APRIL 2018 FROM 7PM\nCommunity Hall\, 2 Chief St\, Brompton\nTickets $75 pp\nGroup Booking of 10 people = $750\nBook: unearthingwine@gmail.com
URL:https://whatsoninadelaide.net.au/event/winelovers-vintage-ball-lets-jazz-it-up-chatsby/
LOCATION:Brompton Community Hall\, 2 Chief St\, Brompton\, SA\, 5007\, Australia
CATEGORIES:Food / Wine,General
ORGANIZER;CN="Unearthing WineLovers Social Group":MAILTO:unearthingwine@gmail.com
END:VEVENT
BEGIN:VEVENT
DTSTART;TZID=UTC:20180421T113000
DTEND;TZID=UTC:20180421T153000
DTSTAMP:20260426T085739
CREATED:20180417T015753Z
LAST-MODIFIED:20180417T015753Z
UID:39891-1524310200-1524324600@whatsoninadelaide.net.au
SUMMARY:Primo Pranzo with Feisty Filomena Food Truck
DESCRIPTION:Enjoy some traditional Italian comfort food in our beautiful cellar door courtyard as Feisty Filomena food truck brings some Italian classics to Primo Estate winery in McLaren Vale. \nGet a group of friends together\, bring the family and enjoy a relaxed food truck lunch in McLaren Vale’s most stylish cellar door. \nA selection of Primo Estate and Primo & Co wines will be available to buy by the glass and by the bottle as you relax and enjoy spring in McLaren Vale’s beautiful wine country. Please note that there is no advanced booking or assigned seating for this event\, larger groups are advised to arrive early to grab a table so they can sit together. \n‘Sleeping with Da Fishes Burger & Chips’ – $15\nPeroni beer battered cod topped with tartare slaw on a warm seeded brioche bun\, served with fat crunchy chips \n‘Nonna’s Balls – $10\n2 crispy rice arachini balls infused with saffron\, porcini mushrooms and Scamorza cheese. Served with pickled slaw. Choose from Bolognese\, aioli and spicy chutney dipping sauces \n‘Fat Tony’s Fingers’ – $11\nChicken Parigiana tenders served with fat crunchy chips \n‘Bolognese Pasta Bake – $14\nRigatoni pasta layered with Bolognese sauce\, Mozzarella\, aged Cheddar\, Parmesan and fresh Italian herbs. Baked ’till golden and served with pickled slaw.
URL:https://whatsoninadelaide.net.au/event/primo-pranzo-with-feisty-filomena-food-truck/
LOCATION:Primo Estate\, 50 McMurtrie Road\, McLaren Vale\, South Australia\, 5171\, Australia
CATEGORIES:Food / Wine
ORGANIZER;CN="Primo Estate":MAILTO:cellardoor@primoestate.com.au
END:VEVENT
BEGIN:VEVENT
DTSTART;TZID=UTC:20180419T180000
DTEND;TZID=UTC:20180419T220000
DTSTAMP:20260426T085739
CREATED:20180417T050527Z
LAST-MODIFIED:20180417T050527Z
UID:39591-1524160800-1524175200@whatsoninadelaide.net.au
SUMMARY:Passion & Purpose 'Meet & Greet Fundraiser'
DESCRIPTION:Looking for a great night out? Interested in meeting some fun new singles? Then join us for the Passion & Purpose ‘Meet & Greet’ fundraiser! \nYou’ll have the opportunity to meet other singles face-to-face in a fun\, friendly environment whilst supporting Treasure Boxes – a wonderful local charity that provides much-needed support for children living in disadvantage\, by providing them with basic and essential needs. \nTICKETS INCLUDE:\n* Drink on arrival\n* Delicious grazing platters\n* Fun\, low pressure\, no strings attached way to meet other singles\n* Friendly and professional host ready to help you break the ice \nHOW DOES IT WORK\nAfter a 5 minute mini-date with each person\, you secretly check ‘Yes/No’ to indicate if you are interested in getting to know the person better. \nThe next day\, you’ll receive an email address of all your mutual matches! \nTIMINGS\nRegistration: 6.00pm\nMeet & Match: 6.30pm\nMingle: 8.30pm \nTICKETS:\nSingle Ticket: $45\nBring a Friend: $35 p/p\nWomen: https://www.trybooking.com/UYRS\nMen: https://www.trybooking.com/UYRU \nGrab your tickets today to avoid disappointment. This will be an event not to be missed!
URL:https://whatsoninadelaide.net.au/event/passion-purpose-meet-greet-fundraiser/
LOCATION:Rob Roy Hotel\, 106 Halifax Street\, Adelaide (CBD)\, South Australia\, 5000\, Australia
CATEGORIES:Food / Wine,General
ORGANIZER;CN="Danae Thyssen":MAILTO:passionandpurpose4u@gmail.com
END:VEVENT
END:VCALENDAR