BEGIN:VCALENDAR
VERSION:2.0
PRODID:-//Whats On In Adelaide - ECPv6.9.0//NONSGML v1.0//EN
CALSCALE:GREGORIAN
METHOD:PUBLISH
X-ORIGINAL-URL:https://whatsoninadelaide.net.au
X-WR-CALDESC:Events for Whats On In Adelaide
REFRESH-INTERVAL;VALUE=DURATION:PT1H
X-Robots-Tag:noindex
X-PUBLISHED-TTL:PT1H
BEGIN:VTIMEZONE
TZID:UTC
BEGIN:STANDARD
TZOFFSETFROM:+0000
TZOFFSETTO:+0000
TZNAME:UTC
DTSTART:20180101T000000
END:STANDARD
TZID:Australia/Adelaide
BEGIN:STANDARD
TZOFFSETFROM:+1030
TZOFFSETTO:+0930
TZNAME:ACST
DTSTART:20180331T163000
END:STANDARD
BEGIN:DAYLIGHT
TZOFFSETFROM:+0930
TZOFFSETTO:+1030
TZNAME:ACDT
DTSTART:20181006T163000
END:DAYLIGHT
END:VTIMEZONE
BEGIN:VEVENT
DTSTART;TZID=UTC:20180503T190000
DTEND;TZID=UTC:20180503T210000
DTSTAMP:20260426T102622
CREATED:20180416T233147Z
LAST-MODIFIED:20180417T045140Z
UID:39510-1525374000-1525381200@whatsoninadelaide.net.au
SUMMARY:National Wine Education & Training Centre - Understanding Wine Course
DESCRIPTION:A wine education and appreciation course held over 5 weeks\, 1 session per week\, 2 hours per session\, 7 pm – 9 pm at the National Wine Centre. \nThis course is for people who enjoy drinking wine and aspire to learn more about what they’re tasting\, smelling and experiencing. Over the course of 5 weeks\, you’ll explore a range of wine styles\, varieties\, blends\, and regions as our educators guide you through how to swirl\, sniff and taste like a professional. \nBy course end\, you’ll understand more about aroma and taste and you’ll know how to express it. You will gain confidence as a wine consumer and have fun with like-minded people in a relaxed and informal setting at the National Wine Centre. This course is ideal for those starting out in the hospitality or wine industry.
URL:https://whatsoninadelaide.net.au/event/national-wine-education-training-centre-understanding-wine-course/
LOCATION:National Wine Centre\, Cnr Botanic and Hackney Roads\, Adelaide\, SA\, 5000\, Australia
CATEGORIES:Food / Wine
ORGANIZER;CN="National Wine Education &amp%3B Training Centre":MAILTO:admin@winesa.asn.au
END:VEVENT
BEGIN:VEVENT
DTSTART;TZID=UTC:20180429T100000
DTEND;TZID=UTC:20180429T170000
DTSTAMP:20260426T102622
CREATED:20180416T044344Z
LAST-MODIFIED:20180416T044344Z
UID:39579-1524996000-1525021200@whatsoninadelaide.net.au
SUMMARY:The Dutch Festival 2018
DESCRIPTION:Running since 1994 Adelaide’s largest Dutch Festival is on again after 2017 saw more than 5\,000 Aussies walk through the doors of the club rooms\, The Dutch Club SA with generous support of Multicultural SA is proud to announce the now annual festival to be hosted on Sunday April 29th 2018! \nIt is well known that the Dutch are some of the most enthusiastic festival goers in the world\, so it only makes sense that on their monarch’s birthday that the Dutch let their hair down with a bit of festival cheer! ‘Koningsdag’ or King’s Day for the English speakers is the largest festival in the Netherlands\, celebrating King Willem-Alexander 50th birthday. Traditionally held on the 27th of April the festival in Holland is known as an ‘anything goes’ event with royal taxes not applying on the day and citizens lining the streets with massive flea markets known as ‘vrijmarkt’. \nBack in Australia\, The Dutch Club SA continue the festive vibe bringing the biggest market we can fit into our club grounds\, we also packed the festival with entertainment\, arts and crafts\, traditional Dutch meals\, Dutch games\, live music\, kids entertainment\, face painting\, Dutch beers/ spirits and a whole bunch more! \nWith orange the national colour of the royal family we don our royal colours with pride\, covering ourselves from head to toe in bright colour! \nSo throw on some orange\, grab a bottle of Oranje bitter and a kroket or 10 and come spend a day with the Dutch. \nAnd of course\, Entry is free!!! \nIf you have any other questions or just want to say ‘Hello’ you can contact us via our Facebook page or by emailing festival@dutchclub.com.au.
URL:https://whatsoninadelaide.net.au/event/the-dutch-festival-2018/
LOCATION:The Dutch Club\, 21 Greenfields Avenue\, Green Fields\, South Australia\, 5095\, Australia
CATEGORIES:Family,Food / Wine,General
ORGANIZER;CN="The Dutch Club":MAILTO:kaiit@dutchclub.com.au
END:VEVENT
BEGIN:VEVENT
DTSTART;TZID=UTC:20180427T080000
DTEND;TZID=UTC:20180427T170000
DTSTAMP:20260426T102622
CREATED:20180512T205837Z
LAST-MODIFIED:20180512T205837Z
UID:40513-1524816000-1524848400@whatsoninadelaide.net.au
SUMMARY:Mother’s Day Lunch – 3 courses $35
DESCRIPTION:Enjoy a sumptuous Mother’s Day Lunch by the Beach\n3 courses for $35 + Live Acoustic Performance by Zoe Miller from 1:30pm\nEntrée  \nKing Island 3 Cheese & Roasted Walnut Tart\, rocket salad (V) \nBush Spiced Squid on Moroccan Cous Cous\, lemon yoghurt (NF)  \nOven Roasted Tomato\, Char-grilled Zucchini\, sweet potato chips (VE)(GF) \nMains  \nSalmon Fillet\, spiced Beetroot relish\, potato rounds\, Shaved asparagus (GF)(NF) )(DF) \nProsciutto-wrapped Chicken Breast\, potato galette\, brocollini\, Pesto cream (GF) \nStuffed Capsicum & Vegetable Pilaf\, baby spinach\, sticky balsamic (VE)(NF)(DF) \nDessert \nAustralian Cheese Selection\, dried fruit\, nuts\, crackers \nLime Sorbet with Limoncello Syrup\, and Mint (GF)(DF)(VE)(NF) \nBaileys Panna cotta\, berry coulis\, (GF)(NF)
URL:https://whatsoninadelaide.net.au/event/mothers-day-lunch-3-courses-35/
LOCATION:Adelaide Sailing Club\, Barcoo Road\, West Beach\, South Australia\, 5024\, Australia
CATEGORIES:Family,Food / Wine,Music
END:VEVENT
BEGIN:VEVENT
DTSTART;VALUE=DATE:20180422
DTEND;VALUE=DATE:20180423
DTSTAMP:20260426T102623
CREATED:20180304T200141Z
LAST-MODIFIED:20180408T003141Z
UID:39090-1524355200-1524441599@whatsoninadelaide.net.au
SUMMARY:McLaren Vale Vintage & Classic 2018
DESCRIPTION:McLAREN VALE VINTAGE & CLASSIC 2018 \nCharity Dinner 6-30 Saturday April 21st at Serafino with special guest Colin Bond former Australian Rally Champion 1971\,72 & 74 as well as Bathurst winner 1969 and inducted into V8 Supercars Hall of Fame 2002. \nMain Street Parade Sunday April 22nd starting from Serafino at 11-00am. Free Community Event\, come and join in lining the Main St of McLaren Vale and cheer the parade of 500+ vehicles. Then make your way to one of the participating Wineries for lunch\, listen to music and enjoy the cars up close. \nDetails and entry forms www.vintageandclassic.com.au or 0415820719
URL:https://whatsoninadelaide.net.au/event/mclaren-vale-vintage-classic-2018/
LOCATION:Main Street McLaren Vale\, Main Street\, McLaren Vale\, South Australia\, 5171\, Australia
CATEGORIES:Family,Food / Wine,Music
ORGANIZER;CN="Trevor Sharp":MAILTO:vintageandclassic@hotmail.com
END:VEVENT
BEGIN:VEVENT
DTSTART;TZID=UTC:20180421T190000
DTEND;TZID=UTC:20180421T233000
DTSTAMP:20260426T102623
CREATED:20180417T004647Z
LAST-MODIFIED:20180417T004647Z
UID:39443-1524337200-1524353400@whatsoninadelaide.net.au
SUMMARY:WineLovers Vintage Ball - Lets Jazz it Up! #chatsby
DESCRIPTION:UNEARTHING WINELOVERS SOCIAL GROUP\nWineLovers Vintage Ball – Lets Jazz it Up! #chatsby\nGood mental health is a sense of well being\, confidence and self-esteem\nWe fundraise for Chat ‘n’ Chew managed by Uniting Care Wesley\, Port Adelaide. The program provides an opportunity for more than 700 people each year to enjoy some independence\, make friends and feel connected with others in our local community. one in five Australians will suffer from a mental illness in any given year.\nSUPPORT OUR FUNDRAISING EFFORTS! WE’D LOVE YOU TO JAZZ UP TOO. ANYTHING FROM SPATTS TO SPARKLES\, TO SWING SKIRTS AND STEAM PUNK STUDS. JOIN US FOR THE   \nWineLovers Vintage Ball – Lets Jazz it Up! #chatsby\nSATURDAY 21 APRIL 2018 FROM 7PM\nCommunity Hall\, 2 Chief St\, Brompton\nTickets $75 pp\nGroup Booking of 10 people = $750\nBook: unearthingwine@gmail.com
URL:https://whatsoninadelaide.net.au/event/winelovers-vintage-ball-lets-jazz-it-up-chatsby/
LOCATION:Brompton Community Hall\, 2 Chief St\, Brompton\, SA\, 5007\, Australia
CATEGORIES:Food / Wine,General
ORGANIZER;CN="Unearthing WineLovers Social Group":MAILTO:unearthingwine@gmail.com
END:VEVENT
BEGIN:VEVENT
DTSTART;TZID=UTC:20180421T113000
DTEND;TZID=UTC:20180421T153000
DTSTAMP:20260426T102623
CREATED:20180417T015753Z
LAST-MODIFIED:20180417T015753Z
UID:39891-1524310200-1524324600@whatsoninadelaide.net.au
SUMMARY:Primo Pranzo with Feisty Filomena Food Truck
DESCRIPTION:Enjoy some traditional Italian comfort food in our beautiful cellar door courtyard as Feisty Filomena food truck brings some Italian classics to Primo Estate winery in McLaren Vale. \nGet a group of friends together\, bring the family and enjoy a relaxed food truck lunch in McLaren Vale’s most stylish cellar door. \nA selection of Primo Estate and Primo & Co wines will be available to buy by the glass and by the bottle as you relax and enjoy spring in McLaren Vale’s beautiful wine country. Please note that there is no advanced booking or assigned seating for this event\, larger groups are advised to arrive early to grab a table so they can sit together. \n‘Sleeping with Da Fishes Burger & Chips’ – $15\nPeroni beer battered cod topped with tartare slaw on a warm seeded brioche bun\, served with fat crunchy chips \n‘Nonna’s Balls – $10\n2 crispy rice arachini balls infused with saffron\, porcini mushrooms and Scamorza cheese. Served with pickled slaw. Choose from Bolognese\, aioli and spicy chutney dipping sauces \n‘Fat Tony’s Fingers’ – $11\nChicken Parigiana tenders served with fat crunchy chips \n‘Bolognese Pasta Bake – $14\nRigatoni pasta layered with Bolognese sauce\, Mozzarella\, aged Cheddar\, Parmesan and fresh Italian herbs. Baked ’till golden and served with pickled slaw.
URL:https://whatsoninadelaide.net.au/event/primo-pranzo-with-feisty-filomena-food-truck/
LOCATION:Primo Estate\, 50 McMurtrie Road\, McLaren Vale\, South Australia\, 5171\, Australia
CATEGORIES:Food / Wine
ORGANIZER;CN="Primo Estate":MAILTO:cellardoor@primoestate.com.au
END:VEVENT
BEGIN:VEVENT
DTSTART;TZID=UTC:20180419T180000
DTEND;TZID=UTC:20180419T220000
DTSTAMP:20260426T102623
CREATED:20180417T050527Z
LAST-MODIFIED:20180417T050527Z
UID:39591-1524160800-1524175200@whatsoninadelaide.net.au
SUMMARY:Passion & Purpose 'Meet & Greet Fundraiser'
DESCRIPTION:Looking for a great night out? Interested in meeting some fun new singles? Then join us for the Passion & Purpose ‘Meet & Greet’ fundraiser! \nYou’ll have the opportunity to meet other singles face-to-face in a fun\, friendly environment whilst supporting Treasure Boxes – a wonderful local charity that provides much-needed support for children living in disadvantage\, by providing them with basic and essential needs. \nTICKETS INCLUDE:\n* Drink on arrival\n* Delicious grazing platters\n* Fun\, low pressure\, no strings attached way to meet other singles\n* Friendly and professional host ready to help you break the ice \nHOW DOES IT WORK\nAfter a 5 minute mini-date with each person\, you secretly check ‘Yes/No’ to indicate if you are interested in getting to know the person better. \nThe next day\, you’ll receive an email address of all your mutual matches! \nTIMINGS\nRegistration: 6.00pm\nMeet & Match: 6.30pm\nMingle: 8.30pm \nTICKETS:\nSingle Ticket: $45\nBring a Friend: $35 p/p\nWomen: https://www.trybooking.com/UYRS\nMen: https://www.trybooking.com/UYRU \nGrab your tickets today to avoid disappointment. This will be an event not to be missed!
URL:https://whatsoninadelaide.net.au/event/passion-purpose-meet-greet-fundraiser/
LOCATION:Rob Roy Hotel\, 106 Halifax Street\, Adelaide (CBD)\, South Australia\, 5000\, Australia
CATEGORIES:Food / Wine,General
ORGANIZER;CN="Danae Thyssen":MAILTO:passionandpurpose4u@gmail.com
END:VEVENT
END:VCALENDAR